BEGIN:VCALENDAR
PRODID:-//eluceo/ical//2.0/EN
VERSION:2.0
CALSCALE:GREGORIAN
BEGIN:VEVENT
UID:8cfda4ae40a9c034699060d00bd1c8db
DTSTAMP:20260420T104218Z
SUMMARY:Referat: Kernbotschaften im Wahlkampf
DESCRIPTION:Talare: Peter Stücheli-Herlach
URL:https://rotary-zh-nord.ch/sv/agenda/show/19655
DTSTART;TZID=Europe/Zurich:20111024T120000
DTEND;TZID=Europe/Zurich:20111024T120000
LOCATION:Hotel Crowne Plaza
CATEGORIES:Rotary
END:VEVENT
BEGIN:VTIMEZONE
TZID:Europe/Zurich
BEGIN:DAYLIGHT
DTSTART:20111024T120000
TZNAME:CEST
TZOFFSETTO:+0200
TZOFFSETFROM:+0200
END:DAYLIGHT
END:VTIMEZONE
END:VCALENDAR
