BEGIN:VCALENDAR
PRODID:-//eluceo/ical//2.0/EN
VERSION:2.0
CALSCALE:GREGORIAN
BEGIN:VEVENT
UID:e33e643f0ae331e334a167af9903cadf
DTSTAMP:20260422T140659Z
SUMMARY:Dr. Hans-Peter Fricker: Offene oder geschlossene Schweiz? Unser Ver
 hältnis zum Ausland
DESCRIPTION:Website: http://www.beobachter.ch/natur/umweltpolitik/natur-umw
 eltschutz/artikel/hans-peter-fricker_oekologie-hat-mit-links-und-rechts-ni
 chts-zu-tun/\nSprekers: 1985 bis 1995 war er Mitglied der Geschäftsleitun
 g von Schweizer Radio DRS\, unter anderem als Leiter des Kulturprogramms D
 RS2. 1995 bis 2003 leitete er die Schweizerische Multiple Sklerose Gesells
 chaf
URL:https://rotary-zh-nord.ch/nl/agenda/show/60749
DTSTART;TZID=Europe/Zurich:20160411T120000
DTEND;TZID=Europe/Zurich:20160411T133000
LOCATION:Hotel Crowne Plaza
CATEGORIES:Rotary
END:VEVENT
BEGIN:VTIMEZONE
TZID:Europe/Zurich
BEGIN:DAYLIGHT
DTSTART:20160411T120000
TZNAME:CEST
TZOFFSETTO:+0200
TZOFFSETFROM:+0200
END:DAYLIGHT
END:VTIMEZONE
END:VCALENDAR
