BEGIN:VCALENDAR
PRODID:-//eluceo/ical//2.0/EN
VERSION:2.0
CALSCALE:GREGORIAN
BEGIN:VEVENT
UID:4f5b81c7158a91fcbd0faa6f61f64dd3
DTSTAMP:20260423T004428Z
SUMMARY:Felix Bolliger: Die Mikrotransaktionssteuer
DESCRIPTION:Sito web: http://www.haelfte.ch/tl_files/haelfte/downloads/AMTD
 AutomatischeMikrosteuer04022016.pdf
URL:https://rotary-zh-nord.ch/it/agenda/show/64473
DTSTART;TZID=Europe/Zurich:20160704T120000
DTEND;TZID=Europe/Zurich:20160704T133000
LOCATION:Hotel Crowne Plaza
CATEGORIES:Rotary
END:VEVENT
BEGIN:VTIMEZONE
TZID:Europe/Zurich
BEGIN:DAYLIGHT
DTSTART:20160704T120000
TZNAME:CEST
TZOFFSETTO:+0200
TZOFFSETFROM:+0200
END:DAYLIGHT
END:VTIMEZONE
END:VCALENDAR
