BEGIN:VCALENDAR
PRODID:-//eluceo/ical//2.0/EN
VERSION:2.0
CALSCALE:GREGORIAN
BEGIN:VEVENT
UID:0f7bad59ee7a561ab46c11a5f8590815
DTSTAMP:20260423T004612Z
SUMMARY:Jaap Vossen\, Swisscom: Das Internet der Dinge wird konkret
DESCRIPTION:Sito web: https://www.swisscom.ch/de/business/enterprise/trends
 /internet-of-things.html\nRelatore/i: Jaap Vossen\, Head of Product Manage
 ment Mobile Services erklärt\, was das Internet der Dinge für Firmen bri
 ngt.
URL:https://rotary-zh-nord.ch/it/agenda/show/60760
DTSTART;TZID=Europe/Zurich:20160606T120000
DTEND;TZID=Europe/Zurich:20160606T133000
LOCATION:Hotel Crowne Plaza
CATEGORIES:Rotary
END:VEVENT
BEGIN:VTIMEZONE
TZID:Europe/Zurich
BEGIN:DAYLIGHT
DTSTART:20160606T120000
TZNAME:CEST
TZOFFSETTO:+0200
TZOFFSETFROM:+0200
END:DAYLIGHT
END:VTIMEZONE
END:VCALENDAR
