BEGIN:VCALENDAR
PRODID:-//eluceo/ical//2.0/EN
VERSION:2.0
CALSCALE:GREGORIAN
BEGIN:VEVENT
UID:39d10ecca5d48fb9ff297b4a440749fd
DTSTAMP:20260423T002850Z
SUMMARY:Felix E. Müller\, NZZaS: Gibt es noch Hoffnung für den Liberalism
 us?
DESCRIPTION:Felix E. Müller ist eine der profiliersten Stimmen im Schweize
 r Journalismus und verantwortet mit der NZZ am Sonntag ein Medium\, dass a
 uch bei der Konkurrenz höchstes Ansehen geniesst. In seinem Referart umre
 isst er die Lage des Liberalismus in der Schweiz.\nSito web: http://www.nz
 z.ch/impressum/felix_e_mller_fem-1.369\nRelatore/i: Felix E. Müller\, Che
 fredakteur NZZ am Sonntag
URL:https://rotary-zh-nord.ch/it/agenda/show/60504
DTSTART;TZID=Europe/Zurich:20160314T120000
DTEND;TZID=Europe/Zurich:20160314T133000
LOCATION:Hotel Crowne Plaza
CATEGORIES:Rotary
END:VEVENT
BEGIN:VTIMEZONE
TZID:Europe/Zurich
BEGIN:STANDARD
DTSTART:20160314T120000
TZNAME:CET
TZOFFSETTO:+0100
TZOFFSETFROM:+0100
END:STANDARD
END:VTIMEZONE
END:VCALENDAR
