BEGIN:VCALENDAR
PRODID:-//eluceo/ical//2.0/EN
VERSION:2.0
CALSCALE:GREGORIAN
BEGIN:VEVENT
UID:bd71c0c29620ab6c9b652bf90d481aa6
DTSTAMP:20260423T224704Z
SUMMARY:Flavia Kleiner: Die Operation Libero und der Kampf gegen die DSI
DESCRIPTION:Als führender Kopf sowohl in der Kampagne gegen die Homosexuel
 len feindliche CVP-Heiratsinitiative wie auch gegen die SVP-Duchsetzungsin
 itiative ist Flavia Kleiner z.Z. in aller Munde. Die Medien nennen sie "de
 n Albtraum der SVP" und diverse Parteien von links bis rechts werben um da
 s Polittalent. Flavia Kleiner erklärt\, was die von ihr präsidierte Oper
 ation Libero ist und wie ihre jungliberale Truppe den anfänglich aussicht
 slosen Kampf gegen CVP und SVP gewann.\nSito web: http://www.operation-lib
 ero.ch/de/team/flavia-kleiner\nRelatore/i: Flavia Kleiner ist Politikstude
 ntin in Freiburg\, Co-Präsidentin der liberalen Operation Libero.
URL:https://rotary-zh-nord.ch/it/agenda/show/60452
DTSTART;TZID=Europe/Zurich:20160307T120000
DTEND;TZID=Europe/Zurich:20160307T133000
LOCATION:Hotel Crowne Plaza
CATEGORIES:Rotary
END:VEVENT
BEGIN:VTIMEZONE
TZID:Europe/Zurich
BEGIN:STANDARD
DTSTART:20160307T120000
TZNAME:CET
TZOFFSETTO:+0100
TZOFFSETFROM:+0100
END:STANDARD
END:VTIMEZONE
END:VCALENDAR
