BEGIN:VCALENDAR
PRODID:-//eluceo/ical//2.0/EN
VERSION:2.0
CALSCALE:GREGORIAN
BEGIN:VEVENT
UID:add1f4fea00eae6a516e47560d0d61dd
DTSTAMP:20260423T194129Z
SUMMARY:Plauderlunch
DESCRIPTION:
URL:https://rotary-zh-nord.ch/it/agenda/show/58102
DTSTART;TZID=Europe/Zurich:20160215T000000
DTEND;TZID=Europe/Zurich:20160215T000000
LOCATION:Hotel Crowne Plaza
CATEGORIES:Rotary
END:VEVENT
BEGIN:VTIMEZONE
TZID:Europe/Zurich
BEGIN:STANDARD
DTSTART:20160215T000000
TZNAME:CET
TZOFFSETTO:+0100
TZOFFSETFROM:+0100
END:STANDARD
END:VTIMEZONE
END:VCALENDAR
