BEGIN:VCALENDAR
PRODID:-//eluceo/ical//2.0/EN
VERSION:2.0
CALSCALE:GREGORIAN
BEGIN:VEVENT
UID:0d32d903be1a9d53ca98ac07c6e1bd0c
DTSTAMP:20260422T223923Z
SUMMARY:David Schäfer: C-Level-Herausforderung Digital
DESCRIPTION:David Schäfer erklärt\, warum das oberste Mangement sich mit 
 den Folgen der digitalen Umwälzung auseinandersetzen muss.\nSito web: htt
 p://haemmerlischaefer.com/team/schaefer/\nRelatore/i: David Schäfer ist K
 ommunikationsberater mit Fokus Digital. Er ist Gründer der Social Media A
 cademy Somex Cloud und Managing Partner von haemmerli schaefer contemporar
 y communiccations (hscc). 
URL:https://rotary-zh-nord.ch/it/agenda/show/52894
DTSTART;TZID=Europe/Zurich:20150720T120000
DTEND;TZID=Europe/Zurich:20150720T120000
LOCATION:Hotel Crowne Plaza
CATEGORIES:Rotary
END:VEVENT
BEGIN:VTIMEZONE
TZID:Europe/Zurich
BEGIN:DAYLIGHT
DTSTART:20150720T120000
TZNAME:CEST
TZOFFSETTO:+0200
TZOFFSETFROM:+0200
END:DAYLIGHT
END:VTIMEZONE
END:VCALENDAR
