BEGIN:VCALENDAR
PRODID:-//eluceo/ical//2.0/EN
VERSION:2.0
CALSCALE:GREGORIAN
BEGIN:VEVENT
UID:c2bcc7141efa8ac13c821f63ceb8657b
DTSTAMP:20260422T222702Z
SUMMARY:Referat von Regula Pfister\, VRP ZFV
DESCRIPTION:Relatore/i: Regula Pfister
URL:https://rotary-zh-nord.ch/it/agenda/show/32200
DTSTART;TZID=Europe/Zurich:20130930T120000
DTEND;TZID=Europe/Zurich:20130930T120000
LOCATION:Hotel Crowne Plaza
CATEGORIES:Rotary
END:VEVENT
BEGIN:VTIMEZONE
TZID:Europe/Zurich
BEGIN:DAYLIGHT
DTSTART:20130930T120000
TZNAME:CEST
TZOFFSETTO:+0200
TZOFFSETFROM:+0200
END:DAYLIGHT
END:VTIMEZONE
END:VCALENDAR
