BEGIN:VCALENDAR
PRODID:-//eluceo/ical//2.0/EN
VERSION:2.0
CALSCALE:GREGORIAN
BEGIN:VEVENT
UID:fd99bea45efe9bcbcc548b72d2c17910
DTSTAMP:20260423T123340Z
SUMMARY:Referat "Mit Zielvereinbarungen zu Nachhaltigkeit"
DESCRIPTION:Relatore/i: Erich Kalbermatter
URL:https://rotary-zh-nord.ch/it/agenda/show/32198
DTSTART;TZID=Europe/Zurich:20130916T120000
DTEND;TZID=Europe/Zurich:20130916T120000
LOCATION:Hotel Crowne Plaza
CATEGORIES:Rotary
END:VEVENT
BEGIN:VTIMEZONE
TZID:Europe/Zurich
BEGIN:DAYLIGHT
DTSTART:20130916T120000
TZNAME:CEST
TZOFFSETTO:+0200
TZOFFSETFROM:+0200
END:DAYLIGHT
END:VTIMEZONE
END:VCALENDAR
