BEGIN:VCALENDAR
PRODID:-//eluceo/ical//2.0/EN
VERSION:2.0
CALSCALE:GREGORIAN
BEGIN:VEVENT
UID:799c52475146f5c29af88864190fd7ed
DTSTAMP:20260423T123046Z
SUMMARY:Referat "Krisenintervention in Unternehmen"
DESCRIPTION:Relatore/i: Fulvio Federi\, Carelink
URL:https://rotary-zh-nord.ch/it/agenda/show/32191
DTSTART;TZID=Europe/Zurich:20130722T120000
DTEND;TZID=Europe/Zurich:20130722T120000
LOCATION:Hotel Crowne Plaza
CATEGORIES:Rotary
END:VEVENT
BEGIN:VTIMEZONE
TZID:Europe/Zurich
BEGIN:DAYLIGHT
DTSTART:20130722T120000
TZNAME:CEST
TZOFFSETTO:+0200
TZOFFSETFROM:+0200
END:DAYLIGHT
END:VTIMEZONE
END:VCALENDAR
