BEGIN:VCALENDAR
PRODID:-//eluceo/ical//2.0/EN
VERSION:2.0
CALSCALE:GREGORIAN
BEGIN:VEVENT
UID:c2a537124a9ce2791b31ef5ffa355477
DTSTAMP:20260423T123358Z
SUMMARY:Aiducation
DESCRIPTION:Relatore/i: Florian Kapitza
URL:https://rotary-zh-nord.ch/it/agenda/show/31050
DTSTART;TZID=Europe/Zurich:20130603T120000
DTEND;TZID=Europe/Zurich:20130603T140000
LOCATION:Hotel Crowne Plaza
CATEGORIES:Rotary
END:VEVENT
BEGIN:VTIMEZONE
TZID:Europe/Zurich
BEGIN:DAYLIGHT
DTSTART:20130603T120000
TZNAME:CEST
TZOFFSETTO:+0200
TZOFFSETFROM:+0200
END:DAYLIGHT
END:VTIMEZONE
END:VCALENDAR
