BEGIN:VCALENDAR
PRODID:-//eluceo/ical//2.0/EN
VERSION:2.0
CALSCALE:GREGORIAN
BEGIN:VEVENT
UID:d4f4ff92382dc7e1ba7330afca51304c
DTSTAMP:20260425T174107Z
SUMMARY:Konrad Hummler\, «Vom Umgang mit Amerika\, im Lichte des Iran-Krie
 gs»
DESCRIPTION:Sito web: https://zunfthaus-zimmerleuten.ch\nRelatore/i: Konrad
  Hummler
URL:https://rotary-zh-nord.ch/it/agenda/show/211818
DTSTART;TZID=Europe/Zurich:20260427T114500
DTEND;TZID=Europe/Zurich:20260427T133000
LOCATION:Zunfthaus zur Zimmerleuten\, Limmatquai 40\, 8001 Zürich\, Schwei
 z
CATEGORIES:Rotary
END:VEVENT
BEGIN:VTIMEZONE
TZID:Europe/Zurich
BEGIN:DAYLIGHT
DTSTART:20260427T114500
TZNAME:CEST
TZOFFSETTO:+0200
TZOFFSETFROM:+0200
END:DAYLIGHT
END:VTIMEZONE
END:VCALENDAR
