BEGIN:VCALENDAR
PRODID:-//eluceo/ical//2.0/EN
VERSION:2.0
CALSCALE:GREGORIAN
BEGIN:VEVENT
UID:534b02abb1510e240a587074c0b6686a
DTSTAMP:20260425T190259Z
SUMMARY:Rolf Siegenthaler\, Perspektive der Armee auf die geopolitische Lag
 e
DESCRIPTION:Sito web: https://zunfthaus-zimmerleuten.ch\nRelatore/i: Rolf S
 iegentahler
URL:https://rotary-zh-nord.ch/it/agenda/show/211802
DTSTART;TZID=Europe/Zurich:20260413T114500
DTEND;TZID=Europe/Zurich:20260413T132500
LOCATION:Zunfthaus zur Zimmerleuten\, Limmatquai 40\, 8001 Zürich\, Schwei
 z
CATEGORIES:Rotary
END:VEVENT
BEGIN:VTIMEZONE
TZID:Europe/Zurich
BEGIN:DAYLIGHT
DTSTART:20260413T114500
TZNAME:CEST
TZOFFSETTO:+0200
TZOFFSETFROM:+0200
END:DAYLIGHT
END:VTIMEZONE
END:VCALENDAR
