BEGIN:VCALENDAR
PRODID:-//eluceo/ical//2.0/EN
VERSION:2.0
CALSCALE:GREGORIAN
BEGIN:VEVENT
UID:75d1291c589da9b19af5fff554e715d1
DTSTAMP:20260425T203208Z
SUMMARY:Einordnung zum Krieg im Nahen Osten. Mit Cornelia Meyer
DESCRIPTION:Sito web: https://zunfthaus-zimmerleuten.ch\nRelatore/i: 
URL:https://rotary-zh-nord.ch/it/agenda/show/207180
DTSTART;TZID=Europe/Zurich:20260309T114500
DTEND;TZID=Europe/Zurich:20260309T133000
LOCATION:Zunfthaus zur Zimmerleuten\, Limmatquai 40\, 8001 Zürich\, Schwei
 z
CATEGORIES:Rotary
END:VEVENT
BEGIN:VTIMEZONE
TZID:Europe/Zurich
BEGIN:STANDARD
DTSTART:20260309T114500
TZNAME:CET
TZOFFSETTO:+0100
TZOFFSETFROM:+0100
END:STANDARD
END:VTIMEZONE
END:VCALENDAR
