BEGIN:VCALENDAR
PRODID:-//eluceo/ical//2.0/EN
VERSION:2.0
CALSCALE:GREGORIAN
BEGIN:VEVENT
UID:e61237ee3c4bada4419899a086226fca
DTSTAMP:20260425T151529Z
SUMMARY:HandsOn mit Verein Incontro/Sr. Ariane
DESCRIPTION:Der Event ist ausgebucht\, da wir bereits genug Anmeldungen hab
 en.\n\nWir helfen dem Verein Incontro bei der Verteilung von ungefähr 250
  Mahlzeiten und Güter an Bedürftige (Prostituierte\, Obdachlose\, Drogen
 abhängige\, Alkoholiker\, Menschen mit psychischen Problemen\, Grossfamil
 ien usw.) an der Langstrasse in Zürich. Wir treffen uns um 16:45 Uhr an d
 er Molkenstrasse 8\, 8004 Zürich (beim Helvetiaplatz\, Denner). Der Einsa
 tz dauert bis zirka 20 Uhr. Es besteht eine Maskenpflicht.\n\nWas müsst i
 hr mitnehmen? Wetterfeste Kleidung und gutes Schuhwerk (der Einsatz finde
 t draussen statt). Bitte meldet euch über unsere Website oder direkt bei 
 Rot. Nadia Vonlanthen (nadia@camelia.ch / Tel. 079 780 77 73) an.
URL:https://rotary-zh-nord.ch/it/agenda/show/117429
DTSTART;TZID=Europe/Zurich:20201003T164500
DTEND;TZID=Europe/Zurich:20201003T200000
LOCATION:Molkenstrasse 8\, 8004 Zürich (beim Helvetiaplatz\, Denner)
CATEGORIES:Rotary
END:VEVENT
BEGIN:VTIMEZONE
TZID:Europe/Zurich
BEGIN:DAYLIGHT
DTSTART:20201003T164500
TZNAME:CEST
TZOFFSETTO:+0200
TZOFFSETFROM:+0200
END:DAYLIGHT
END:VTIMEZONE
END:VCALENDAR
