BEGIN:VCALENDAR
PRODID:-//eluceo/ical//2.0/EN
VERSION:2.0
CALSCALE:GREGORIAN
BEGIN:VEVENT
UID:0c801b841606f0f72661176a023060d6
DTSTAMP:20260423T084614Z
SUMMARY:Stallwache Knabenschiessen
DESCRIPTION:Menu: Rindsschulterbraten geschmort an Barolojus\, serviert mi
 t Kartoffelgratin und Sommergemüse \n\noder\n\nRanden Kichererbsen Kugel
 n\, serviert mit Kartoffelgratin und Sommergemüse
URL:https://rotary-zh-nord.ch/it/agenda/show/114593
DTSTART;TZID=Europe/Zurich:20200914T121500
DTEND;TZID=Europe/Zurich:20200914T133000
LOCATION:Hotel Crowne Plaza
CATEGORIES:Rotary
END:VEVENT
BEGIN:VTIMEZONE
TZID:Europe/Zurich
BEGIN:DAYLIGHT
DTSTART:20200914T121500
TZNAME:CEST
TZOFFSETTO:+0200
TZOFFSETFROM:+0200
END:DAYLIGHT
END:VTIMEZONE
END:VCALENDAR
