BEGIN:VCALENDAR
PRODID:-//eluceo/ical//2.0/EN
VERSION:2.0
CALSCALE:GREGORIAN
BEGIN:VEVENT
UID:7835291ea38c783e7b6d8d6fc2a9e211
DTSTAMP:20260424T202101Z
SUMMARY:Ursula Gut\, ehemalige Zürcher Regierungsrätin
DESCRIPTION:Conférencier(s): Zürcher Festspiele
URL:https://rotary-zh-nord.ch/fr/agenda/show/93075
DTSTART;TZID=Europe/Zurich:20181029T121500
DTEND;TZID=Europe/Zurich:20181029T133000
LOCATION:Hotel Crowne Plaza
CATEGORIES:Rotary
END:VEVENT
BEGIN:VTIMEZONE
TZID:Europe/Zurich
BEGIN:STANDARD
DTSTART:20181029T121500
TZNAME:CET
TZOFFSETTO:+0100
TZOFFSETFROM:+0100
END:STANDARD
END:VTIMEZONE
END:VCALENDAR
