BEGIN:VCALENDAR
PRODID:-//eluceo/ical//2.0/EN
VERSION:2.0
CALSCALE:GREGORIAN
BEGIN:VEVENT
UID:c15197c7a744dd089108028b99431100
DTSTAMP:20260424T172029Z
SUMMARY:Anita Zielina\, NZZ-Chefredaktion: Neue Produkte: Die digitale NZZ
DESCRIPTION:Anita Zielina leitet bei der NZZ den Umbau ins Digitale. Sie st
 udierte in Wien Politikwissenschaft und Rechtswissenschaften. Ab 2004 war 
 sie Journalistin bei der österreichischen Tageszeitung «Der Standard»\,
  zunächst als Online-Redaktorin im Bereich Inland und Bildung\, danach al
 s Ressortleiterin Inland und zuletzt als Stellvertretende Chefredaktorin. 
 2012 wurde ihr die einjährige Knight Journalism Fellowship an der Univers
 ität Stanford\, Kalifornien\, zum Thema Medieninnovation verliehen. Zulet
 zt Stellvertretende Chefredaktorin des Magazins «Stern» in Hamburg mit Z
 uständigkeit für alle digitalen Produkte.\nSite internet: https://de.wik
 ipedia.org/wiki/Anita_Zielina\nConférencier(s): Anita Zielina verantworte
 t den digitalen Umbau der NZZ. Sie erklärt\, was sie tut und warum man da
 mit Geld verdienen kann. 
URL:https://rotary-zh-nord.ch/fr/agenda/show/60759
DTSTART;TZID=Europe/Zurich:20160530T120000
DTEND;TZID=Europe/Zurich:20160530T133000
LOCATION:Hotel Crowne Plaza
CATEGORIES:Rotary
END:VEVENT
BEGIN:VTIMEZONE
TZID:Europe/Zurich
BEGIN:DAYLIGHT
DTSTART:20160530T120000
TZNAME:CEST
TZOFFSETTO:+0200
TZOFFSETFROM:+0200
END:DAYLIGHT
END:VTIMEZONE
END:VCALENDAR
