BEGIN:VCALENDAR
PRODID:-//eluceo/ical//2.0/EN
VERSION:2.0
CALSCALE:GREGORIAN
BEGIN:VEVENT
UID:5ead1afbad1678c1257c1bfc7388ca5d
DTSTAMP:20260421T162732Z
SUMMARY:Andreas Durisch: Die Moralfalle im Fall SIKA
DESCRIPTION:
URL:https://rotary-zh-nord.ch/fr/agenda/show/56187
DTSTART;TZID=Europe/Zurich:20151109T120000
DTEND;TZID=Europe/Zurich:20151109T133000
LOCATION:Hotel Crowne Plaza
CATEGORIES:Rotary
END:VEVENT
BEGIN:VTIMEZONE
TZID:Europe/Zurich
BEGIN:STANDARD
DTSTART:20151109T120000
TZNAME:CET
TZOFFSETTO:+0100
TZOFFSETFROM:+0100
END:STANDARD
END:VTIMEZONE
END:VCALENDAR
