BEGIN:VCALENDAR
PRODID:-//eluceo/ical//2.0/EN
VERSION:2.0
CALSCALE:GREGORIAN
BEGIN:VEVENT
UID:4327a9c42682750c439e31644262fd0c
DTSTAMP:20260423T091436Z
SUMMARY:Beatrice Müller\, Ex-Tageschaumoderatorin „Auftreten\, überzeug
 en\, sich durchsetzen“
DESCRIPTION:Site internet: https://www.beatricemueller.com/de/profil
URL:https://rotary-zh-nord.ch/fr/agenda/show/56185
DTSTART;TZID=Europe/Zurich:20151026T120000
DTEND;TZID=Europe/Zurich:20151026T133000
LOCATION:Hotel Crowne Plaza
CATEGORIES:Rotary
END:VEVENT
BEGIN:VTIMEZONE
TZID:Europe/Zurich
BEGIN:STANDARD
DTSTART:20151026T120000
TZNAME:CET
TZOFFSETTO:+0100
TZOFFSETFROM:+0100
END:STANDARD
END:VTIMEZONE
END:VCALENDAR
