BEGIN:VCALENDAR
PRODID:-//eluceo/ical//2.0/EN
VERSION:2.0
CALSCALE:GREGORIAN
BEGIN:VEVENT
UID:d165669a4ecf75f9b276540702f8fb7f
DTSTAMP:20260421T132441Z
SUMMARY:Ton & Ria Houben\, HSRC South Africa: Report zum Projekt „Literac
 y for all“
DESCRIPTION:Conférencier(s): \n\n
URL:https://rotary-zh-nord.ch/fr/agenda/show/56183
DTSTART;TZID=Europe/Zurich:20151012T120000
DTEND;TZID=Europe/Zurich:20151012T133000
LOCATION:Hotel Crowne Plaza
CATEGORIES:Rotary
END:VEVENT
BEGIN:VTIMEZONE
TZID:Europe/Zurich
BEGIN:DAYLIGHT
DTSTART:20151012T120000
TZNAME:CEST
TZOFFSETTO:+0200
TZOFFSETFROM:+0200
END:DAYLIGHT
END:VTIMEZONE
END:VCALENDAR
