BEGIN:VCALENDAR
PRODID:-//eluceo/ical//2.0/EN
VERSION:2.0
CALSCALE:GREGORIAN
BEGIN:VEVENT
UID:cbcf1375c587c5f37f8c464f2ecff17e
DTSTAMP:20260421T102619Z
SUMMARY:Gesa Schneider: So macht man eine Austellung
DESCRIPTION:Dr. Gesa Schneider leitet seit zwei Jahren das Literaturhaus Z
 ürich und hat die Institution dynamisiert. Jetzt übernimmt sie auch noch
  das Museum Bärengasse. Gesa Schneider erklärt auf Basis von viel Erfahr
 ungswissen: Wie mache ich eine Ausstellung?\nSite internet: http://www.lim
 mattalerzeitung.ch/limmattal/zuerich/gesa-schneider-ueber-literatur-jensei
 ts-der-buchseiten-128865483\nConférencier(s): Gesa Schneider ist Direktor
 in des Literaturhaus Zürich und neu zusätzlich Leiterin des Museums Bär
 engasse. 
URL:https://rotary-zh-nord.ch/fr/agenda/show/52905
DTSTART;TZID=Europe/Zurich:20150928T120000
DTEND;TZID=Europe/Zurich:20150928T133000
LOCATION:Hotel Crowne Plaza
CATEGORIES:Rotary
END:VEVENT
BEGIN:VTIMEZONE
TZID:Europe/Zurich
BEGIN:DAYLIGHT
DTSTART:20150928T120000
TZNAME:CEST
TZOFFSETTO:+0200
TZOFFSETFROM:+0200
END:DAYLIGHT
END:VTIMEZONE
END:VCALENDAR
