BEGIN:VCALENDAR
PRODID:-//eluceo/ical//2.0/EN
VERSION:2.0
CALSCALE:GREGORIAN
BEGIN:VEVENT
UID:694f93308d9d693b20fa01536987ee64
DTSTAMP:20260421T102242Z
SUMMARY:Hannes Grassegger: Digitaler Kapitalismus
DESCRIPTION:Hannes Grassegger fordert in seinem Essay\, dass wir am Mehrwer
 t\, den unsere Daten bedeuten\, anständig partizipieren. Er zeigt Gefahre
 n und Möglichkeitne des digitalen Zeitalters auf und bringt damit den dig
 italen Kapitalismus konzise auf den Punkt.\nSite internet: http://www.pers
 oenlich.com/news/medien/hannes-grassegger-die-schweizer-lassen-sich-bislan
 g-wie-schafchen-ausnehmen-319326#.VZGYhUbpqNA\nConférencier(s): Hannes Gr
 assegger ist Ökonom und preisgekrönter Autor\, der vor allem mit seinem 
 Essay "Das Kapital bin ich" Furore gemacht hat. 
URL:https://rotary-zh-nord.ch/fr/agenda/show/52896
DTSTART;TZID=Europe/Zurich:20150803T120000
DTEND;TZID=Europe/Zurich:20150803T120000
LOCATION:Hotel Crowne Plaza
CATEGORIES:Rotary
END:VEVENT
BEGIN:VTIMEZONE
TZID:Europe/Zurich
BEGIN:DAYLIGHT
DTSTART:20150803T120000
TZNAME:CEST
TZOFFSETTO:+0200
TZOFFSETFROM:+0200
END:DAYLIGHT
END:VTIMEZONE
END:VCALENDAR
