BEGIN:VCALENDAR
PRODID:-//eluceo/ical//2.0/EN
VERSION:2.0
CALSCALE:GREGORIAN
BEGIN:VEVENT
UID:a853d7c4f9fbd994dd6372fa573ada0f
DTSTAMP:20260425T010235Z
SUMMARY:Zukunft Chinas
DESCRIPTION:Menu: Lasagne auf Tomatenragout mit Rucolasalat\n\noder\n\nVeg
 etarische Lasagne auf Tomatenragout mit Rucolasalat\nConférencier(s): Es
 ther Nägeli\, Vorstand Handelskammer CH-China
URL:https://rotary-zh-nord.ch/fr/agenda/show/118055
DTSTART;TZID=Europe/Zurich:20201019T121500
DTEND;TZID=Europe/Zurich:20201019T133000
LOCATION:Hotel Crowne Plaza
CATEGORIES:Rotary
END:VEVENT
BEGIN:VTIMEZONE
TZID:Europe/Zurich
BEGIN:DAYLIGHT
DTSTART:20201019T121500
TZNAME:CEST
TZOFFSETTO:+0200
TZOFFSETFROM:+0200
END:DAYLIGHT
END:VTIMEZONE
END:VCALENDAR
