BEGIN:VCALENDAR
PRODID:-//eluceo/ical//2.0/EN
VERSION:2.0
CALSCALE:GREGORIAN
BEGIN:VEVENT
UID:33ca3cd9aa84d0dc5a5a94fd9baf80a7
DTSTAMP:20260425T010026Z
SUMMARY:Utopie und Dystopie – Zukunft in der Literatur
DESCRIPTION:Menu: Gebratene Maispoulardenbrust an Cafe de Paris Sauce\n\nse
 rviert mit Spätzli und Herbstgemüse\n\noder\n\nGebratenes Sojaschnitzlel
  an Cafe de Paris Sauce\n\nserviert mit Spätzli und Herbstgemüse\nConfé
 rencier(s): Robin Hull\, Vorstand der Aldous Huxley-Gesellschaft
URL:https://rotary-zh-nord.ch/fr/agenda/show/118053
DTSTART;TZID=Europe/Zurich:20201005T121500
DTEND;TZID=Europe/Zurich:20201005T133000
LOCATION:Hotel Crowne Plaza
CATEGORIES:Rotary
END:VEVENT
BEGIN:VTIMEZONE
TZID:Europe/Zurich
BEGIN:DAYLIGHT
DTSTART:20201005T121500
TZNAME:CEST
TZOFFSETTO:+0200
TZOFFSETFROM:+0200
END:DAYLIGHT
END:VTIMEZONE
END:VCALENDAR
