BEGIN:VCALENDAR
PRODID:-//eluceo/ical//2.0/EN
VERSION:2.0
CALSCALE:GREGORIAN
BEGIN:VEVENT
UID:a3696dce88d6e29a5c4dec10f2747e97
DTSTAMP:20260421T121718Z
SUMMARY:DICONNECT 01/2026
DESCRIPTION:
URL:https://team.polaris.rotary.ch/en/agenda/show/203726
DTSTART;TZID=Europe/Zurich:20260120T170000
DTEND;TZID=Europe/Zurich:20260120T180000
LOCATION:Microsoft Teams
CATEGORIES:Rotary
END:VEVENT
BEGIN:VTIMEZONE
TZID:Europe/Zurich
BEGIN:STANDARD
DTSTART:20260120T170000
TZNAME:CET
TZOFFSETTO:+0100
TZOFFSETFROM:+0100
END:STANDARD
END:VTIMEZONE
END:VCALENDAR
