BEGIN:VCALENDAR
PRODID:-//eluceo/ical//2.0/EN
VERSION:2.0
CALSCALE:GREGORIAN
BEGIN:VEVENT
UID:f6f87554809bed9f2fdfe9f4ff591f1d
DTSTAMP:20260423T161129Z
SUMMARY:Plauderlunch
DESCRIPTION:
URL:https://rotary-zh-nord.ch/de/agenda/show/32194
DTSTART;TZID=Europe/Zurich:20130812T120000
DTEND;TZID=Europe/Zurich:20130812T120000
LOCATION:Hotel Crowne Plaza
CATEGORIES:Rotary
END:VEVENT
BEGIN:VTIMEZONE
TZID:Europe/Zurich
BEGIN:DAYLIGHT
DTSTART:20130812T120000
TZNAME:CEST
TZOFFSETTO:+0200
TZOFFSETFROM:+0200
END:DAYLIGHT
END:VTIMEZONE
END:VCALENDAR
