BEGIN:VCALENDAR
PRODID:-//eluceo/ical//2.0/EN
VERSION:2.0
CALSCALE:GREGORIAN
BEGIN:VEVENT
UID:bbdb3c707401a8cd80339b095e3da2dc
DTSTAMP:20260423T175218Z
SUMMARY:Persönlicher Vortrag von Rot. Till Bay
DESCRIPTION:Referenten/innen: Rot. Till Bay
URL:https://rotary-zh-nord.ch/de/agenda/show/32193
DTSTART;TZID=Europe/Zurich:20130805T120000
DTEND;TZID=Europe/Zurich:20130805T120000
LOCATION:Hotel Crowne Plaza
CATEGORIES:Rotary
END:VEVENT
BEGIN:VTIMEZONE
TZID:Europe/Zurich
BEGIN:DAYLIGHT
DTSTART:20130805T120000
TZNAME:CEST
TZOFFSETTO:+0200
TZOFFSETFROM:+0200
END:DAYLIGHT
END:VTIMEZONE
END:VCALENDAR
